BEGIN:VCALENDAR
VERSION:2.0
PRODID:-//Poetry @ Princeton - ECPv6.15.17.1//NONSGML v1.0//EN
CALSCALE:GREGORIAN
METHOD:PUBLISH
X-WR-CALNAME:Poetry @ Princeton
X-ORIGINAL-URL:https://poetry.princeton.edu
X-WR-CALDESC:Events for Poetry @ Princeton
REFRESH-INTERVAL;VALUE=DURATION:PT1H
X-Robots-Tag:noindex
X-PUBLISHED-TTL:PT1H
BEGIN:VTIMEZONE
TZID:America/New_York
BEGIN:DAYLIGHT
TZOFFSETFROM:-0500
TZOFFSETTO:-0400
TZNAME:EDT
DTSTART:20230312T070000
END:DAYLIGHT
BEGIN:STANDARD
TZOFFSETFROM:-0400
TZOFFSETTO:-0500
TZNAME:EST
DTSTART:20231105T060000
END:STANDARD
BEGIN:DAYLIGHT
TZOFFSETFROM:-0500
TZOFFSETTO:-0400
TZNAME:EDT
DTSTART:20240310T070000
END:DAYLIGHT
BEGIN:STANDARD
TZOFFSETFROM:-0400
TZOFFSETTO:-0500
TZNAME:EST
DTSTART:20241103T060000
END:STANDARD
BEGIN:DAYLIGHT
TZOFFSETFROM:-0500
TZOFFSETTO:-0400
TZNAME:EDT
DTSTART:20250309T070000
END:DAYLIGHT
BEGIN:STANDARD
TZOFFSETFROM:-0400
TZOFFSETTO:-0500
TZNAME:EST
DTSTART:20251102T060000
END:STANDARD
END:VTIMEZONE
BEGIN:VEVENT
DTSTART;TZID=America/New_York:20240101T110000
DTEND;TZID=America/New_York:20240102T000000
DTSTAMP:20260424T074429
CREATED:20231211T134442Z
LAST-MODIFIED:20231211T134442Z
UID:3629-1704106800-1704153600@poetry.princeton.edu
SUMMARY:The Poetry Project's 50th Annual New Year's Day Marathon
DESCRIPTION:Every year on January 1st—for fifty rowdy\, enduring\, and improbable years—The Poetry Project and its friends\, lovers\, and co-conspirators have gathered for the New Year’s Day Marathon. What began as a reading of thirty-odd poets has grown into a twelve-hour-long spectacle of 150 performances. The New Year’s Day Marathon is The Poetry Project’s signature event and our calling card\, an untameable celebration of the horizon of language\, the act of devotion\, and the edge of experiment that is avant-garde poetry and performance. A nycthemeral testament to centering the margin\, to the weird as social practice\, the New Year’s Day Marathon is real lived and living proof that poetry is the revelator\, the subterranean taste- and troublemaker of the literary arts and downtown cultural scene\, and a true accomplice to social change. \nThe New Year’s Day Marathon is a party/afterparty with a mind of its own. It’s an uncanny experience that is both a real event and a mutually agreed upon fever-dream—an enormous feat and group effort that also sort of just happens\, that reminds us we are happening too. It’s a place where like-minded freaks gather\, where we go to see and be seen. It is our annual commitment to the belief that if we can do it together then we should do it together; it’s where we go to fall in love with poetry\, with each other\, with a utopia that isn’t here yet\, with the utopia that’s always been here. The Marathon is the chicest\, strangest sustainer\, and the only way we know how to begin the new year. \nIt is also The Poetry Project’s biggest fundraiser. The money raised at the New Year’s Day Marathon supports: over 65 events each year that reach thousands of attendees around the world; a breadth of creative and scholarly publications; writing fellowships; emerging writer prizes; the hundreds of workshop attendees who join us each season; and the payments we make to the 500+ teachers\, performers\, readers\, editors\, technicians\, lecturers\, writers\, curators\, scholars\, and critics we program each year. The Marathon is crucial to maintaining the working and learning community\, the alternative economy of poetry\, and the cultural anti-enterprise we have been collectively authoring for more than half a century. \nWe hope you can join us on January 1st\, 2024 for The Poetry Project’s 50th Annual New Year’s Day Marathon. We are stunned to be celebrating this golden anniversary. We hope you’ll be there too. \nThe Poetry Project’s 50th Annual New Year’s Day Marathon will begin at 11AM on January 1st and go to about midnight. The event will be divided into two parts: 11AM–5PM and 6PM–midnight\, with an hour break in between. During the hour break\, the sanctuary will be cleared so that we can reset the space. \nTickets are now available for Part One and Part Two of the Marathon. If you would like to attend both parts\, please buy tickets to both! Tickets for both parts of the Marathon will also be available at the door. \nPart One: Bahaar Ahsan\, Ashna Ali\, Mirene Arsanios\, Ka Baird\, Lauren Bakst\, Ivanna Baranova\, Jaye Bartell\, Eddie Berrigan\, Ama Birch\, Emily Brandt\, Lee Ann Brown\, IV Castellanos\, Zoë and Maia Chao\, Claire Chase\, Che Chen\, Todd Colby\, Lydia Cortés\, Brenda Coultas\, Maxe Crandall\, Dana Ysabel Dela Cruz\, Marcos de la Fuente\, Garrett Devoe\, Douglas Dunn\, Marcella Durand\, devynn emory\, Samuel Espíndola Hernández\, Betsy Fagin\, Alan Felsenthal\, Foamola\, Joshua Garcia\, John Godfrey\, Gia Gonzales\, Steph Gray\, Anna Gurton-Wachter\, Miguel Gutierrez\, Odetta Hartman\, Sky Hopinka\, Erica Hunt\, Emily Johnson\, Patricia Spears Jones\, Sahar Khraibani\, David Kirschenbaum\, jaamil olawale kosoko\, Muyassar Yousef Kurdi\, Yaz Lancaster\, Matt Longabucco\, Greg Masters\, Tracey McTague\, Jennifer Miller\, Dave Morse\, Caelan Nardone\, Jeannine Otis\, Annie-B Parson\, Kameelah Janan Rasheed\, m.s. redcherries\, Bob Rosenthal\, Judah Rubin\, Dusty Childers and Frank Schablewski\, Collier Schorr\, Sarah Schulman\, Eleni Sikelianos\, Sing in Solidarity\, Charles Theonia\, Edwin Torres\, Tony Towle\, Don Yorty \nPart Two: Lena Pervez Afridi\, Rachel Allen\, Jonathan Aprea\, Penny Arcade\, Tyler Ashley\, hannah baer\, Jo Barchi\, James Barickman\, Morgan Bassichis\, Jim Behrle\, Anselm Berrigan\, Malcolm-x Betts\, Tess Brown-Lavoie\, CAConrad\, Candystore\, Anna Cataldo\, Wo Chan\, Chiquitita\, Yoshiko Chuma\, Kyle Dacuyan\, Ted Dodson\, Francesca D’Uva\, Tess Dworman\, Mel Elberg\, Ben Fama\, Will Farris\, Carolyn Ferrucci\, Kay Gabriel\, Cecilia Gentili\, Tilghman Goldsborough\, Rainer Diana Hamilton\, Nile Harris\, Kaleem Hawa\, Laura Henriksen\, Niall Jones\, Elena Comay del Junco\, Amirtha Kidambi\, Kinlaw\, Shiv Kotecha\, Benjamin Krusling\, Rachel Levitsky\, Erin Markey\, Sam Max\, Noa Mendoza\, Ty Mitchell\, Roberto Montes\, Thurston Moore\, Fred Moten\, Ayaz Muratoglu\, Eileen Myles\, Laura Ortman\, Sarah Nicole Prickett\, Matt Proctor\, E.R. Pulgar\, Elliot Reed\, DAYS (Ethan Philbrick & Ned Riseley)\, Kim Rosenfield\, Victoria Ruiz\, Zoé Samudzi\, Jasmine Sanders\, Early Shinada\, H. Sinno\, Pamela Sneed\, Max Steele\, Jordan Tannahill\, Conrad Tao\, Cecilia Vicuña\, Morgan Vō\, David Velasco\, Anne Waldman\, Harron Walker\, Nicole Wallace\, Emily XYZ and Myers Bartlett\, Matvei Yankelevich\, Lix Zackeroff \nMore performers and hour-by-hour lineups TBA\, and stay tuned for more information on tarot readings with CAConrad! \nThe entire event will also be livestreamed. Livestream tickets are available for a suggested donation of $5–15
URL:https://poetry.princeton.edu/event/the-poetry-projects-50th-annual-new-years-day-marathon/
LOCATION:St. Mark’s Church\, 131 E. 10th Street (at 2nd Ave)\, New York\, NY\, 10003\, United States
CATEGORIES:New York
END:VEVENT
BEGIN:VEVENT
DTSTART;TZID=America/New_York:20240118T190000
DTEND;TZID=America/New_York:20240118T200000
DTSTAMP:20260424T074429
CREATED:20240110T221141Z
LAST-MODIFIED:20240110T221141Z
UID:3656-1705604400-1705608000@poetry.princeton.edu
SUMMARY:PSA Reading Series: Natalie Diaz & Ishion Hutchinson
DESCRIPTION:About the Authors: \nNatalie Diaz was born on the Fort Mojave Indian Village in Needles\, California\, on the banks of the Colorado River. She is Mojave and an enrolled member of the Gila River Indian Tribe (Akimel O’odham). Diaz is the author of Postcolonial Love Poem\, winner of the Pulitzer Prize in Poetry\, finalist for the National Book Award\, Forward Prize in Poetry\, and Los Angeles Times Book Prize\, and winner of a Publishing Triangle Award. Her first book\, When My Brother Was an Aztec\, was winner of an American Book Award. She has received fellowships from The MacArthur Foundation\, the Lannan Literary Foundation\, the Native Arts Council Foundation\, and Princeton University. She was awarded the Princeton Holmes National Poetry Prize and is a member of the Board of Trustees for the United States Artists\, where she is an alumnus of the Ford Fellowship. A language activist\, Diaz is Director of the Center for Imagination in the Borderlands and the Maxine and Jonathan Marshall Chair in Modern and Contemporary Poetry at Arizona State University\, where she teaches in the MFA program. In 2021\, Diaz was elected a Chancellor of the Academy of American Poets and was a finalist for the Neustadt International Prize for Literature. She lives in Phoenix\, Arizona. \nIshion Hutchinson was born in Port Antonio\, Jamaica. He is the author of the poetry collections School of Instructions\, House of Lords and Commons\, and Far District. His awards include the Joseph Brodsky Rome Prize\, the Windham-Campbell Prize for Poetry\, and the National Book Critics Circle Award.
URL:https://poetry.princeton.edu/event/psa-reading-series-natalie-diaz-ishion-hutchinson/
LOCATION:Poetry Society of America\, 119 Smith Street\, Brooklyn\, NY\, 11201\, United States
CATEGORIES:New York
END:VEVENT
BEGIN:VEVENT
DTSTART;TZID=America/New_York:20240119T183000
DTEND;TZID=America/New_York:20240119T200000
DTSTAMP:20260424T074429
CREATED:20240116T195254Z
LAST-MODIFIED:20240116T195254Z
UID:3712-1705689000-1705694400@poetry.princeton.edu
SUMMARY:Poetry Reading: Erica Hunt with introduction by Simone White
DESCRIPTION:About the Authors: \nErica Hunt is the author of Local History\, Arcade\, Piece Logic\, Time Flies Right Before the Eyes\, VERONICA: A Suite in X Parts and\, most recently\, Jump the Clock. Hunt’s poems and non-fiction have appeared in BOMB\, Boundary 2\, Brooklyn Rail\, Conjunctions\, The Los Angeles Review of Books\, Poetics Journal\, Tripwire\, FENCE\, Hambone\, In the American Tree and Conjunctions. among other publications. Essays on poetics\, feminism\, and politics have been collected in Moving Borders: Three Decades of Innovative Writing by Women\, A-LINE\, and The Politics of Poetic Form\, The World\, and other anthologies. With poet and scholar Dawn Lundy Martin\, Hunt is co-editor of the anthology Letters to the Future\, Black Women/Radical Writing in 2018 from Kore Press. Hunt has received fellowships from the American Academy of Rome\, the Foundation for Contemporary Art\, the Fund for Poetry\, the Djerassi Foundation and Duke University/the University of Capetown Program in Public Policy. More info via ericahuntworks.com \nSimone White is the author of or\, on being the other woman (Duke University Press\, 2022)\, Dear Angel of Death (Ugly Duckling Presse\, 2018)\, Of Being Dispersed (Futurepoem\, 2016)\, and House Envy of All the World (Factory School\, 2010)\, the poetry chapbook\, Unrest (Ugly Duckling Presse\, 2013)\, and the collaborative poem/painting chapbook\, Dolly (with Kim Thomas) (Q Ave\, 2008). Her poetry and prose have been featured in Artforum\, e-flux\, Harper’s Magazine\, BOMB Magazine\, Chicago Review\, The New York Times Book Review\, and Harriet: The Blog. Her honors include a 2021 Creative Capital Award\, a 2017 Whiting Award in Poetry\, Cave Canem Foundation fellowships\, and recognition as a New American Poet for the Poetry Society of America in 2013. Her work has been praised for its innovative complexity\, allusive song\, and “lyric deconstruction of desire\, entitlement\, blackness\, the domestic\, language and diction\,” in the words of Anna Moschovakis. A graduate of Wesleyan University\, she holds a JD from Harvard Law School\, an MFA from the New School\, and a PhD in English from CUNY Graduate Center. She is the Stephen M. Gorn Family Assistant Professor of English at the University of Pennsylvania and serves on the writing faculty of the Milton Avery Graduate School of the Arts at Bard College. She lives in Brooklyn. More info via simone-white.com
URL:https://poetry.princeton.edu/event/poetry-reading-erica-hunt-with-introduction-by-simone-white/
LOCATION:Milton Resnick and Pat Passlof Foundation\, 87 Eldridge Street\, New York\, NY\, 10002\, United States
CATEGORIES:New York
END:VEVENT
BEGIN:VEVENT
DTSTART;TZID=America/New_York:20240120T193000
DTEND;TZID=America/New_York:20240120T203000
DTSTAMP:20260424T074429
CREATED:20240110T220324Z
LAST-MODIFIED:20240110T220324Z
UID:3649-1705779000-1705782600@poetry.princeton.edu
SUMMARY:Seen\, Sound\, Scribe
DESCRIPTION:Lincoln Center’s inaugural poet-in-residence Mahogany L. Browne continues her Seen\, Sound\, Scribe series\, curating thought-provoking and often politically driven evenings of spoken word\, spirited conversation\, and presentations of new work. The January 20 iteration features recitation and interviews with the poet and NEA and Cave Canem Fellow Nicole Sealey (Ordinary Beast\, The Animal After Whom Other Animals Are Named) discussing her latest collection\, The Ferguson Report: An Erasure; followed by poet Oliver de la Paz\, who will be reading from his National Book Award Longlisted collection\, The Diaspora Sonnets. DJ Jive Poetic returns for the series\, bringing the jams throughout the evening.
URL:https://poetry.princeton.edu/event/seen-sound-scribe/
LOCATION:David Rubenstein Atrium\, Lincoln Center\, 61 W 62nd St.\, New York\, NY\, 10023\, United States
CATEGORIES:New York
END:VEVENT
BEGIN:VEVENT
DTSTART;TZID=America/New_York:20240127T150000
DTEND;TZID=America/New_York:20240127T180000
DTSTAMP:20260424T074429
CREATED:20240111T201328Z
LAST-MODIFIED:20240111T201328Z
UID:3685-1706367600-1706378400@poetry.princeton.edu
SUMMARY:Poets House Reopening Celebration
DESCRIPTION:We’re thrilled to announce that Poets House will reopen the doors of our home for poetry on Saturday\, January 27 with a community-wide Reopening Celebration from 3-6 pm\, featuring performances by the Cornelius Eady Trio\, and readings by Monica Youn\, and others TBA. This event is free and open to the public with generous support from the Battery Park City Authority. \nOur Reopening Celebration continues as we reinitiate regular open hours on the library on Tuesday\, January 30\, 11:00am – 7:00pm. And as we celebrate the Poets House Showcase with a special exhibit of books from 2020 and 2021\, the Books of the Pandemic (Showcase reading dates TBA—stay tuned!) \nOver the past three years\, Poets House has experienced a remarkable period of change and growth. We could not have weathered these transitions—nor continued to provide vibrant online programming for poets and poetry lovers across the country—without your goodwill and encouragement. \nWe look forward to welcoming you back\, please stay tuned for details!
URL:https://poetry.princeton.edu/event/poets-house-reopening-celebration/
LOCATION:Poets House\, 10 River Terrace\, at Murray Street (NYC)
CATEGORIES:New York
END:VEVENT
BEGIN:VEVENT
DTSTART;TZID=America/New_York:20240130T180000
DTEND;TZID=America/New_York:20240130T190000
DTSTAMP:20260424T074429
CREATED:20240111T201037Z
LAST-MODIFIED:20240111T201037Z
UID:3682-1706637600-1706641200@poetry.princeton.edu
SUMMARY:Spectral Evidence: Gregory Pardlo with Imani Perry
DESCRIPTION:Spectral Evidence is Gregory Pardlo’s first major collection of poetry after winning the Pulitzer Prize for Digest. This new collection moves among considerations of the professional wrestler Owen Hart; Tituba\, the only Black woman to be accused of witchcraft during the Salem witch trials; MOVE\, the militant separatist group famous for its violent stand-offs with the Philadelphia Police Department; and other historical topics. Pardlo compels us to consider how we think about devotion\, beauty\, art\, justice\, the criminalization and death of Black bodies\, and how these have been inscribed into our present\, our history\, and the Western canon. \nGregory Pardlo worked on Spectral Evidence during his 2020-2021 Fellowship at the Library’s Dorothy and Lewis B. Cullman Center for Scholars and Writers. He will discuss the book with professor Imani Perry. \nAbout the Authors: \nGregory Pardlo’s collection Digest won the 2015 Pulitzer Prize for Poetry. Other honors include fellowships from the Guggenheim Foundation\, the New York Foundation for the Arts\, and the National Endowment for the Arts. Pardlo is poetry editor at Virginia Quarterly Review and director of the MFA program at Rutgers University-Camden. His most recent book is Air Traffic\, a memoir in essays. He lives in Brooklyn with his wife and two children. \nImani Perry is the author of South to America\, winner of the 2022 National Book Award for Nonfiction. She is the Henry A. Morss\, Jr. and Elisabeth W. Morss Professor of Studies of Women\, Gender\, and Sexuality and of African and African American Studies at Harvard University. Perry’s other books include Looking for Lorraine: The Radiant and Radical Life of Lorraine Hansberry\, winner of the 2019 Bograd-Weld Biography Prize from the Pen America Foundation; Breathe: A Letter to My Sons; Vexy Thing: On Gender and Liberation; and May We Forever Stand: A History of the Black National Anthem. Perry\, a native of Birmingham\, Alabama\, who grew up in Cambridge\, Massachusetts\, and Chicago\, lives outside Philadelphia with her two sons.
URL:https://poetry.princeton.edu/event/spectral-evidence-gregory-pardlo-with-imani-perry/
LOCATION:Stephen A. Schwarzman Building\, Margaret Liebman Bergman Forum\, 476 5th Ave\, New York\, NY\, 10018\, United States
CATEGORIES:New York
END:VEVENT
END:VCALENDAR