BEGIN:VCALENDAR
VERSION:2.0
PRODID:-//Poetry @ Princeton - ECPv6.15.17.1//NONSGML v1.0//EN
CALSCALE:GREGORIAN
METHOD:PUBLISH
X-ORIGINAL-URL:https://poetry.princeton.edu
X-WR-CALDESC:Events for Poetry @ Princeton
REFRESH-INTERVAL;VALUE=DURATION:PT1H
X-Robots-Tag:noindex
X-PUBLISHED-TTL:PT1H
BEGIN:VTIMEZONE
TZID:America/New_York
BEGIN:DAYLIGHT
TZOFFSETFROM:-0500
TZOFFSETTO:-0400
TZNAME:EDT
DTSTART:20180311T070000
END:DAYLIGHT
BEGIN:STANDARD
TZOFFSETFROM:-0400
TZOFFSETTO:-0500
TZNAME:EST
DTSTART:20181104T060000
END:STANDARD
BEGIN:DAYLIGHT
TZOFFSETFROM:-0500
TZOFFSETTO:-0400
TZNAME:EDT
DTSTART:20190310T070000
END:DAYLIGHT
BEGIN:STANDARD
TZOFFSETFROM:-0400
TZOFFSETTO:-0500
TZNAME:EST
DTSTART:20191103T060000
END:STANDARD
BEGIN:DAYLIGHT
TZOFFSETFROM:-0500
TZOFFSETTO:-0400
TZNAME:EDT
DTSTART:20200308T070000
END:DAYLIGHT
BEGIN:STANDARD
TZOFFSETFROM:-0400
TZOFFSETTO:-0500
TZNAME:EST
DTSTART:20201101T060000
END:STANDARD
END:VTIMEZONE
BEGIN:VEVENT
DTSTART;TZID=America/New_York:20191015T120000
DTEND;TZID=America/New_York:20191015T140000
DTSTAMP:20260423T080512
CREATED:20191001T181532Z
LAST-MODIFIED:20191001T181532Z
UID:2848-1571140800-1571148000@poetry.princeton.edu
SUMMARY:Jan Zwicky and Robert Bringhurst: Thinking on the Edge of the Abyss
DESCRIPTION:Contemporary Poetry Colloquium\nCo-sponsored with the 20th C. Colloquium\,\nthe Bain-Swiggett Lectureship in Poetry\,\nthe Fund for Canadian Studies\,\nthe Lewis Center for the Arts\,\nand the University Center for Human Values\n\nJan Zwicky\nProfessor Emerita\nDepartment of Philosophy\nUniversity of Victoria \nand \nRobert Bringhurst\nPoet\, typographer\, author \nThinking on the Edge of the Abyss \nOctober 15\, 2019 (Tuesday)\n12:00 noon\nHinds Library (Room B14)\, McCosh Hall
URL:https://poetry.princeton.edu/event/jan-zwicky-and-robert-bringhurst-thinking-on-the-edge-of-the-abyss/
LOCATION:Hinds Library McCosh B14
END:VEVENT
BEGIN:VEVENT
DTSTART;TZID=America/New_York:20191025T120000
DTEND;TZID=America/New_York:20191026T180000
DTSTAMP:20260423T080512
CREATED:20191025T004504Z
LAST-MODIFIED:20191025T004504Z
UID:2856-1572004800-1572112800@poetry.princeton.edu
SUMMARY:The Princeton Poetry Festival
DESCRIPTION:The Lewis Center for the Arts presents the Princeton Poetry Festival\, a two-day biennial event organized by Pulitzer Prize-winning poet and Princeton professor Paul Muldoon.\n\n\n\nFEATURED GUEST POETS:\n\nIndran Amirthanayagam (Sri Lanka)\nEllen Bass (US)\nGabrielle Bates (US)\nLidija Dimkovska (Macedonia)\nCornelius Eady (US)\nKimiko Hahn (US)\nIshion Hutchinson (Jamaica)\nVasyl Makhno (Ukraine)\nDora Malech (US)\nHarryette Mullen (US)\nTommy Pico (Kumeyaay Nation)\nBen Purkert (US)\n\nLOCATION: Berlind Theatre at McCarter Theatre Center\nADMISSION: FREE and open to the public\nEVENT TIMES: Fri\, Oct 25\, 2019 · 12:00 pm – 6:00 pm; Sat\, Oct 26\, 2019 · 12:30 pm – 6:00 pm\nFor a detailed schedule of events\, please see the Lewis Center Website.
URL:https://poetry.princeton.edu/event/the-princeton-poetry-festival/
LOCATION:Berlind Theater\, McCarter
END:VEVENT
END:VCALENDAR