BEGIN:VCALENDAR
VERSION:2.0
PRODID:-//Poetry @ Princeton - ECPv6.15.17.1//NONSGML v1.0//EN
CALSCALE:GREGORIAN
METHOD:PUBLISH
X-ORIGINAL-URL:https://poetry.princeton.edu
X-WR-CALDESC:Events for Poetry @ Princeton
REFRESH-INTERVAL;VALUE=DURATION:PT1H
X-Robots-Tag:noindex
X-PUBLISHED-TTL:PT1H
BEGIN:VTIMEZONE
TZID:America/New_York
BEGIN:DAYLIGHT
TZOFFSETFROM:-0500
TZOFFSETTO:-0400
TZNAME:EDT
DTSTART:20190310T070000
END:DAYLIGHT
BEGIN:STANDARD
TZOFFSETFROM:-0400
TZOFFSETTO:-0500
TZNAME:EST
DTSTART:20191103T060000
END:STANDARD
BEGIN:DAYLIGHT
TZOFFSETFROM:-0500
TZOFFSETTO:-0400
TZNAME:EDT
DTSTART:20200308T070000
END:DAYLIGHT
BEGIN:STANDARD
TZOFFSETFROM:-0400
TZOFFSETTO:-0500
TZNAME:EST
DTSTART:20201101T060000
END:STANDARD
BEGIN:DAYLIGHT
TZOFFSETFROM:-0500
TZOFFSETTO:-0400
TZNAME:EDT
DTSTART:20210314T070000
END:DAYLIGHT
BEGIN:STANDARD
TZOFFSETFROM:-0400
TZOFFSETTO:-0500
TZNAME:EST
DTSTART:20211107T060000
END:STANDARD
END:VTIMEZONE
BEGIN:VEVENT
DTSTART;TZID=America/New_York:20200324T163000
DTEND;TZID=America/New_York:20200326T180000
DTSTAMP:20260423T000957
CREATED:20200311T153035Z
LAST-MODIFIED:20200311T153035Z
UID:2894-1585067400-1585245600@poetry.princeton.edu
SUMMARY:CANCELED - Seminar in Poetry & Poetics - "Songwriting: Theory of Medieval Song"
DESCRIPTION:THIS EVENT HAS BEEN CANCELED \nPrinceton Seminar in Poetry & Poetics – “Songwriting: Theory of Medieval Song” \nSpeaker:  Ardis Butterfield\, Yale \nMarie Borroff Professor of English\, Professor of French\, \nProfessor of Music Ph.D.\, M.A.\, Trinity College\, Cambridge M.A. \nUniversity of Bristol \nDates: March 24th\, 25th & 26th  – 4:30pm \nArdis Butterfield specializes in the literatures and music of France and England from the 13th to 15th centuries; continental and insular vernacular manuscripts and the relationships between them; city writing; the medieval lyric; Chaucer and nationhood; bilingualism and medieval linguistic identities; and theories and histories of language\, form\, and genre. With secondary appointments as professor of French and music\, her scholarship distinctively traverses disciplines. \nHer books include Poetry and Music in Medieval France (link is external) (2002)\, and The Familiar Enemy: Chaucer\, Language and the Nation in the Hundred Years War  (link is external)(2009) which won the 2010 Society for French Studies R.H. Gapper Prize and was a Choice Outstanding Academic Title (2010). She has edited two collections of essays: Chaucer and the City (link is external)(2006) and\, with Henry Hope and Pauline Souleau\, Performing Medieval Text (link is external)(2017)\, and some 60 articles and essays. Co-founder with Helen Deeming of the Medieval Song Network (link is external)(2010-14)\, a collaborative\, international project to encourage new interdisciplinary research on the medieval lyric\, she currently co-hosts the Yale–based research group Medieval Song Lab (link is external)\, and an annual colloquium on Anglophone Histories which she also co-founded at Yale in 2013. She was elected President of the New Chaucer Society(link is external) in 2016 – 2018 and\, along with many other editorial and advisory roles within international book series\, journals\, and research grant networks\, is co-founder and general co-editor of the monograph series Oxford Studies in Medieval Literature and Culture. \nButterfield held teaching positions at Cambridge and University College London before coming to Yale in 2012 as professor of English. Her visiting appointments include periods at the University of Virginia\, the Huntington Library\, San Marino and All Souls College\, Oxford. She spent 2018-19 as a visiting fellow of Trinity College\, Cambridge and senior research fellow at the Faculty of English\, University of Cambridge. \nShe has three books in progress: a new edition of medieval English lyrics for W.W. Norton & Company; a book on song in the middle ages\, Medieval SongWriting; and a biography\, Chaucer: A London Life. She is also leading a research team at Yale to develop a new Digital Archive of Medieval Song: https://web.library.yale.edu/dhlab/medievalsong
URL:https://poetry.princeton.edu/event/canceled-seminar-in-poetry-poetics-songwriting-theory-of-medieval-song/
LOCATION:East Pyne 321
END:VEVENT
BEGIN:VEVENT
DTSTART;TZID=America/New_York:20200325T163000
DTEND;TZID=America/New_York:20200325T183000
DTSTAMP:20260423T000957
CREATED:20200306T232930Z
LAST-MODIFIED:20200320T160650Z
UID:2875-1585153800-1585161000@poetry.princeton.edu
SUMMARY:CANCELED - Asian American Studies Lecture Series: Karan Mahajan and Jenny Xie
DESCRIPTION:Since 2015\, the Asian American Studies Lecture Series has brought speakers from across the arts\, humanities\, and social sciences to Princeton to explore diverse aspects of this continually evolving field. \nIn 2019-20\, in collaboration with the Lewis Center for the Arts and the Department of English\, the series is dedicated to contemporary Asian American letters\, to showcase the recent explosion of Asian American creative writers and to highlight the expansive geopolitical diversity of what constitutes Asian American letters today. \nKaran Mahajan is the author of Family Planning\, a finalist for the International Dylan Thomas Prize\, and The Association of Small Bombs\, which was shortlisted for the 2016 National Book Award\, won the 2017 Young Lions Fiction Award from the NYPL\, and was named one of The New York Times Book Review’s 10 Best Books of 2016. In 2017\, he was selected as one of Granta’s Best of Young American Novelists. His reporting and criticism have appeared in The New York Times\, Vanity Fair\, The New Republic\, The New Yorker online\, and other venues. He is an assistant professor at Brown University. \nJenny Xie is the author of Eye Level\, a finalist for the National Book Award in Poetry and the PEN Open Book Award\, and recipient of the Walt Whitman Award from the Academy of American Poets and the Holmes National Poetry Prize from Princeton University. Her work has appeared in Poetry\, The New York Times Magazine\, The New Republic\, and Tin House\, among other publications. She lives in New York.
URL:https://poetry.princeton.edu/event/asian-american-studies-lecture-series-karan-mahajan-and-jenny-xie/
LOCATION:McCormick 101
END:VEVENT
BEGIN:VEVENT
DTSTART;TZID=America/New_York:20200327T183000
DTEND;TZID=America/New_York:20200327T203000
DTSTAMP:20260423T000957
CREATED:20200306T233554Z
LAST-MODIFIED:20200320T160641Z
UID:2885-1585333800-1585341000@poetry.princeton.edu
SUMMARY:CANCELED - C.K. Williams Reading Series: Hala Alyan
DESCRIPTION:Award-winning Palestinian American poet\, novelist and clinical psychologist Hala Alyan reads from her work along with creative writing seniors Yousef Elzalabany\, Arianah Hanke\, Luke Henter\, Nathaniel Hickock\, Matthew Igoe\, and E Jeremijenko-Conley. Book sales and signing will follow the readings. \nThe C.K. Williams Reading Series\, named in honor of the late Pulitzer Prize and National Book Award-winning poet C.K. Williams\, who served on Princeton’s Creative Writing faculty for 20 years\, showcases senior thesis students of the Program in Creative Writing with established writers as special guests. \nThe Lewis Center for the Arts’ Program in Creative Writing celebrates 80 years during the 2019-20 academic year with readings by 80 writers. \n  \n\n\n\n\nABOUT\n\n\n \nPhoto by Bob Anderson \n\nHala Alyan is an award-winning Palestinian American poet\, novelist and clinical psychologist whose work has appeared in The New York Times\, Guernica\, The Missouri Review\, Prairie Schooner\, Colorado Review\, and elsewhere. Her poetry collections have won the Arab American Book Award and the Crab Orchard Series. Her debut novel\, SALT HOUSES\, was published by Houghton Mifflin Harcourt in 2017; it was long listed for the Aspen Words Literary Prize\, a finalist for the Dayton Literary Peace Prize and the Chautauqua Prize\, and was recently awarded the Arab American Book Award in Fiction.
URL:https://poetry.princeton.edu/event/c-k-williams-reading-series-hala-alyan/
LOCATION:Forum\, Lewis Arts complex
END:VEVENT
END:VCALENDAR