BEGIN:VCALENDAR
VERSION:2.0
PRODID:-//Poetry @ Princeton - ECPv6.15.17.1//NONSGML v1.0//EN
CALSCALE:GREGORIAN
METHOD:PUBLISH
X-ORIGINAL-URL:https://poetry.princeton.edu
X-WR-CALDESC:Events for Poetry @ Princeton
REFRESH-INTERVAL;VALUE=DURATION:PT1H
X-Robots-Tag:noindex
X-PUBLISHED-TTL:PT1H
BEGIN:VTIMEZONE
TZID:America/New_York
BEGIN:DAYLIGHT
TZOFFSETFROM:-0500
TZOFFSETTO:-0400
TZNAME:EDT
DTSTART:20190310T070000
END:DAYLIGHT
BEGIN:STANDARD
TZOFFSETFROM:-0400
TZOFFSETTO:-0500
TZNAME:EST
DTSTART:20191103T060000
END:STANDARD
BEGIN:DAYLIGHT
TZOFFSETFROM:-0500
TZOFFSETTO:-0400
TZNAME:EDT
DTSTART:20200308T070000
END:DAYLIGHT
BEGIN:STANDARD
TZOFFSETFROM:-0400
TZOFFSETTO:-0500
TZNAME:EST
DTSTART:20201101T060000
END:STANDARD
BEGIN:DAYLIGHT
TZOFFSETFROM:-0500
TZOFFSETTO:-0400
TZNAME:EDT
DTSTART:20210314T070000
END:DAYLIGHT
BEGIN:STANDARD
TZOFFSETFROM:-0400
TZOFFSETTO:-0500
TZNAME:EST
DTSTART:20211107T060000
END:STANDARD
END:VTIMEZONE
BEGIN:VEVENT
DTSTART;TZID=America/New_York:20201104T180000
DTEND;TZID=America/New_York:20201104T190000
DTSTAMP:20260422T105807
CREATED:20201116T180937Z
LAST-MODIFIED:20201116T180937Z
UID:3213-1604512800-1604516400@poetry.princeton.edu
SUMMARY:C.K. Williams Reading by Dr. Craig Santos Perez
DESCRIPTION:Dr. Craig Santos Perez\, an indigenous Chamoru author from the Pacific Island of Guam and author of five poetry books\, reads from his work along with senior students in the Program in Creative Writing. \nThe C.K. Williams Reading Series\, named in honor of the late Pulitzer Prize and National Book Award-winning poet C.K. Williams\, who served on Princeton’s Creative Writing faculty for 20 years\, showcases senior thesis students of the Program in Creative Writing with established writers as special guests. \nFEATURED READERS:\n\nPaige Allen ’21\nLucy Chuang ’21\nMaya Eashwaran ’21\nVail Linn ’21\nHannah Wang ’21\n\nJOIN THE EVENT\nThe virtual reading is free and open to the public. Presented on Zoom; no registration required. \nJoin the Reading on Zoom\nMeeting ID: 969 0070 8310
URL:https://poetry.princeton.edu/event/c-k-williams-reading-by-dr-craig-santos-perez/
LOCATION:NY
END:VEVENT
BEGIN:VEVENT
DTSTART;TZID=America/New_York:20201109T163000
DTEND;TZID=America/New_York:20201109T170000
DTSTAMP:20260422T105807
CREATED:20201116T174954Z
LAST-MODIFIED:20201116T174954Z
UID:3202-1604939400-1604941200@poetry.princeton.edu
SUMMARY:Unique Minds: Voices Through Art and Text
DESCRIPTION:Princeton University’s Graduate Student Government presents an online exhibition as part of the annual Mental Health Month in November 2020. “Unique Minds: Voices Through Art and Text” features more than 55 original works of visual artwork and poetry created by 39 Princeton graduate students\, undergraduates\, faculty\, post-docs and staff. \nTo celebrate the exhibition opening on November 9\, join on Zoom at 4:30 PM (EST) for a guided tour through the virtual exhibit\, including artists’ talks on how their work is connected to and inspired by mental health. \nJOIN THE EVENT\nThe online exhibition is free and open to all each day through December 30\, 2020.\nVIEW THE EXHIBITION \nThe exhibition opening + artist’s talks on Nov. 9 are free and open to all. Event hosted on Zoom; registration required.\nJOIN THE OPENING ON ZOOM
URL:https://poetry.princeton.edu/event/unique-minds-voices-through-art-and-text/
LOCATION:NY
END:VEVENT
BEGIN:VEVENT
DTSTART;TZID=America/New_York:20201113T140000
DTEND;TZID=America/New_York:20201113T160000
DTSTAMP:20260422T105807
CREATED:20201116T175823Z
LAST-MODIFIED:20201116T175823Z
UID:3207-1605276000-1605283200@poetry.princeton.edu
SUMMARY:Clarice Lispector\, 100 Years: A Tribute to Her Life and Work
DESCRIPTION:Fri\, Nov 13\, 2020\, 2:00 pm\n\n\n\n\n\nA conference organized by the Brazil LAB and the Lewis Center for the Arts. Live-streamed to the Brazil LAB YouTube Channel \nEverything in the world began with a yes.\nOne molecule said yes to another molecule and life was born. \n– The Hour of the Star \nFriday . November 13 . 2020 . WATCH HERE \n2:00 pm – Paulo Gurgel Valente (Clarice Lispector’s son and literary executor) in conversation with Marília Librandi (Princeton) \n2:30 pm – Clarice Lispector’s translators Idra Novey (Princeton)\, Johnny Lorenz (Montclair) and Katrina Dodson (Columbia) in conversation with João Biehl (Princeton) \n3:15 pm – Keynote address by Jhumpa Lahiri (Princeton) with Jimin Kang\, Ashley Roundtree & Sergio De Iudicibus (Princeton) \nFollowed by the online concert Now/Agora Clarice with Beatriz Azevedo & Moreno Veloso on November 25\, 2020 (accompanied by Jaques Morelenbaum (cello) and Marcelo Costa (percussion). \nCo-sponsored by the Program in Latin American Studies\, the Department of Spanish and Portuguese\, the Humanities Council\, and the Department of Anthropology\,
URL:https://poetry.princeton.edu/event/clarice-lispector-100-years-a-tribute-to-her-life-and-work/
LOCATION:NY
END:VEVENT
BEGIN:VEVENT
DTSTART;TZID=America/New_York:20201117T170000
DTEND;TZID=America/New_York:20201117T180000
DTSTAMP:20260422T105807
CREATED:20201116T175254Z
LAST-MODIFIED:20201116T175254Z
UID:3204-1605632400-1605636000@poetry.princeton.edu
SUMMARY:Fall 2020 Student Reading
DESCRIPTION:November 17\, 2020\n5 PM (EST) \nSelected students from fall 2020 courses in Creative Writing read from their work in fiction\, poetry\, screenwriting and literary translation as part of the Althea Ward Clark W’21 Reading Series presented by the Program in Creative Writing. \nFEATURED STUDENT READERS:\nArthur Acuna\nAbigail Anthony\nSilma Berrada\nMolly Bremer\nMeigan Clark\nLola Constantino\nBrooks Eikner\nNicolas Gregory\nLila Harmar\nJulia Ilhardt\nSheherzad Jamal\nMairead Kilgallon\nSofia Lodato\nNubia Morales\nDove Nguyen\nJacqueline Pothier\nLivia Qoshe\nSabrina Reguyal\nOyin Sangoyomi\nMeera Sastry\nTess Solomon\nMeredith Tamirian\nGrace Tan\nJulia Walton\nKarena Yan \nJOIN THE EVENT\nThe reading on Zoom is open to Princeton students\, faculty + staff. Visit our Virtual Events Page for the Zoom ID to join the meeting; participants will need to log in to this page with Princeton University ID to gain access. \nACCESSIBILITY\nIf you are in need of other access accommodations in order to participate in this event\, please contact the Lewis Center at 609-258-5262 or email LewisCenter@princeton.edu at least 2 weeks in advance of the event date. \n 
URL:https://poetry.princeton.edu/event/fall-2020-student-reading/
LOCATION:NY
END:VEVENT
BEGIN:VEVENT
DTSTART;TZID=America/New_York:20201118T080000
DTEND;TZID=America/New_York:20201118T170000
DTSTAMP:20260422T105807
CREATED:20201116T172559Z
LAST-MODIFIED:20201116T181340Z
UID:3188-1605686400-1605718800@poetry.princeton.edu
SUMMARY:Rediscovering the Lost Generation: Inside the World of Shakespeare and Company
DESCRIPTION:Join the Shakespeare and Company Project (https://shakespeareandco.princeton.edu(link is external)) for a conversation about the Lost Generation and the books they loved. Shakespeare and Company\, Sylvia Beach’s bookshop and lending library in interwar Paris\, counted among its members James Joyce\, Gertrude Stein\, Ernest Hemingway\, and many other prominent writers and intellectuals. \nIn conversation will be Project Director Joshua Kotin (Department of English) and Keri Walsh (Fordham)\, editor of “The Letters of Sylvia Beach.” \nPresented in partnership with Princeton Public Library and the Historical Society of Princeton \nRegister here: https://www.crowdcast.io/e/ShakespeareandCo
URL:https://poetry.princeton.edu/event/rediscovering-the-lost-generation-inside-the-world-of-shakespeare-and-company/
LOCATION:Zoom
END:VEVENT
BEGIN:VEVENT
DTSTART;TZID=America/New_York:20201119T120000
DTEND;TZID=America/New_York:20201119T130000
DTSTAMP:20260422T105807
CREATED:20201116T174214Z
LAST-MODIFIED:20201116T174214Z
UID:3190-1605787200-1605790800@poetry.princeton.edu
SUMMARY:t4t: A Trans Studies Symposium - Poets Raquel Salas-Rivera and Kelly Díaz
DESCRIPTION:On Thursday\, November 19th at 12:00 PM\, poets Raquel Salas-Rivera and Kelly Díaz will be in conversation as a part of t4t: A Trans Studies Symposium. \nRegister here: https://forms.gle/QakCvogVKXbJSi8x9 \nThe Trans Studies Symposium brings together artists\, scholars\, and community organizers to be in dialogue about the current state of trans studies and movement building. Over four conversations\, the symposium will help to unfurl the legacies of trans organizing\, scholarship\, art practices\, and histories\, and how we might consider this history as we move forward into a precarious future. \nSponsors: 250th Fund for Innovation in Undergraduate Education\, Department of English\, Program in Gender and Sexuality Studies\, Program in American Studies\, Program in Latin American Studies\, Interdisciplinary Doctoral Program in the Humanities\, Lewis Center for the Arts
URL:https://poetry.princeton.edu/event/t4t-a-trans-studies-symposium-poets-raquel-salas-rivera-and-kelly-diaz/
LOCATION:zoom
END:VEVENT
BEGIN:VEVENT
DTSTART;TZID=America/New_York:20201120T153000
DTEND;TZID=America/New_York:20201120T170000
DTSTAMP:20260422T105807
CREATED:20201116T172411Z
LAST-MODIFIED:20201116T172411Z
UID:3180-1605886200-1605891600@poetry.princeton.edu
SUMMARY:COM LIT Works In Progress Colloquium - Lara Harb “Mythos and Mimesis in Aristotelian Arabic Poetics"
DESCRIPTION:The Department of Comparative Literature is pleased to announce the fall session of our Works in Progress Colloquium\, where professors\, post-doctoral researchers and advanced graduate students are invited to discuss ongoing research. On Friday\, November 20th at 3:30 PM\, Professor Lara Harb\, an assistant professor in the Department of Near Eastern Studies\, will present a paper entitled “Mythos and Mimesis in Aristotelian Arabic Poetics.” Her presentation will be followed by a response from Professor of Classics Barbara Graziosi. The presentation and discussion will take place on Zoom. Everyone is encouraged to attend and participate in a discussion after the presentation.
URL:https://poetry.princeton.edu/event/com-lit-works-in-progress-colloquium-lara-harb-mythos-and-mimesis-in-aristotelian-arabic-poetics/
LOCATION:Zoom
END:VEVENT
END:VCALENDAR