BEGIN:VCALENDAR
VERSION:2.0
PRODID:-//Poetry @ Princeton - ECPv6.15.17.1//NONSGML v1.0//EN
CALSCALE:GREGORIAN
METHOD:PUBLISH
X-ORIGINAL-URL:https://poetry.princeton.edu
X-WR-CALDESC:Events for Poetry @ Princeton
REFRESH-INTERVAL;VALUE=DURATION:PT1H
X-Robots-Tag:noindex
X-PUBLISHED-TTL:PT1H
BEGIN:VTIMEZONE
TZID:America/New_York
BEGIN:DAYLIGHT
TZOFFSETFROM:-0500
TZOFFSETTO:-0400
TZNAME:EDT
DTSTART:20200308T070000
END:DAYLIGHT
BEGIN:STANDARD
TZOFFSETFROM:-0400
TZOFFSETTO:-0500
TZNAME:EST
DTSTART:20201101T060000
END:STANDARD
BEGIN:DAYLIGHT
TZOFFSETFROM:-0500
TZOFFSETTO:-0400
TZNAME:EDT
DTSTART:20210314T070000
END:DAYLIGHT
BEGIN:STANDARD
TZOFFSETFROM:-0400
TZOFFSETTO:-0500
TZNAME:EST
DTSTART:20211107T060000
END:STANDARD
BEGIN:DAYLIGHT
TZOFFSETFROM:-0500
TZOFFSETTO:-0400
TZNAME:EDT
DTSTART:20220313T070000
END:DAYLIGHT
BEGIN:STANDARD
TZOFFSETFROM:-0400
TZOFFSETTO:-0500
TZNAME:EST
DTSTART:20221106T060000
END:STANDARD
END:VTIMEZONE
BEGIN:VEVENT
DTSTART;TZID=America/New_York:20210224T180000
DTEND;TZID=America/New_York:20210224T190000
DTSTAMP:20260422T091808
CREATED:20210204T202420Z
LAST-MODIFIED:20210204T202753Z
UID:3216-1614189600-1614193200@poetry.princeton.edu
SUMMARY:C.K. Williams Reading by Ottessa Moshfegh
DESCRIPTION:C.K. Williams Reading by Ottessa Moshfegh\n\nEVENT OVERVIEW\nDATES: February 24\, 2021\nHOURS: 6-7 PM (EST)\nLOCATION: Online\nADMISSION: FREE and open to public\n\n\n\nNovelist and screenwriter Ottessa Moshfegh reads from her work along with senior students in the Program in Creative Writing. \nThe C.K. Williams Reading Series\, named in honor of the late Pulitzer Prize and National Book Award-winning poet C.K. Williams\, who served on Princeton’s Creative Writing faculty for 20 years\, showcases senior thesis students of the Program in Creative Writing with established writers as special guests. \nFEATURED STUDENT READERS:\n\nJanie Kim ’21\nSophia Marusic ’21\nShira Moolten ’21\nNaomi Park ’21\nJillian Quigley ’21\n\n  \nJOIN THE EVENT\nThe virtual reading is free and open to the public. Presented on Zoom; no registration required. \nJOIN THE READING\nMeeting ID: 955 6268 0695 \n  \nACCESSIBILITY\nIf you are in need of access accommodations in order to participate in this event\, please contact the Lewis Center at 609-258-5262 or email LewisCenter@princeton.edu at least 2 weeks in advance of the event date. \n\n\n\n\nABOUT\n\n\n\n \nPhoto by Jake Belcher \n\nOttessa Moshfegh is a novelist and screenwriter from Massachusetts. Her books include the Pen/Hemingway Award-winning debut novel\, Eileen\, and the New York Times bestseller\, My Year of Rest and Relaxation. She is also the author of a novella\, McGlue\, and a short story collection\, Homesick for Another World. Her essays and short fiction are occasionally published in The New Yorker\, Granta\, and The Paris Review. Her last novel\, Death in Her Hands\, came out in June 2020. She lives in southern California. Learn more about Ottessa at Penguin Random House
URL:https://poetry.princeton.edu/event/c-k-williams-reading-by-ottessa-moshfegh/
LOCATION:Zoom
END:VEVENT
END:VCALENDAR