BEGIN:VCALENDAR
VERSION:2.0
PRODID:-//Poetry @ Princeton - ECPv6.15.17.1//NONSGML v1.0//EN
CALSCALE:GREGORIAN
METHOD:PUBLISH
X-ORIGINAL-URL:https://poetry.princeton.edu
X-WR-CALDESC:Events for Poetry @ Princeton
REFRESH-INTERVAL;VALUE=DURATION:PT1H
X-Robots-Tag:noindex
X-PUBLISHED-TTL:PT1H
BEGIN:VTIMEZONE
TZID:America/New_York
BEGIN:DAYLIGHT
TZOFFSETFROM:-0500
TZOFFSETTO:-0400
TZNAME:EDT
DTSTART:20200308T070000
END:DAYLIGHT
BEGIN:STANDARD
TZOFFSETFROM:-0400
TZOFFSETTO:-0500
TZNAME:EST
DTSTART:20201101T060000
END:STANDARD
BEGIN:DAYLIGHT
TZOFFSETFROM:-0500
TZOFFSETTO:-0400
TZNAME:EDT
DTSTART:20210314T070000
END:DAYLIGHT
BEGIN:STANDARD
TZOFFSETFROM:-0400
TZOFFSETTO:-0500
TZNAME:EST
DTSTART:20211107T060000
END:STANDARD
BEGIN:DAYLIGHT
TZOFFSETFROM:-0500
TZOFFSETTO:-0400
TZNAME:EDT
DTSTART:20220313T070000
END:DAYLIGHT
BEGIN:STANDARD
TZOFFSETFROM:-0400
TZOFFSETTO:-0500
TZNAME:EST
DTSTART:20221106T060000
END:STANDARD
END:VTIMEZONE
BEGIN:VEVENT
DTSTART;TZID=America/New_York:20210324T180000
DTEND;TZID=America/New_York:20210324T190000
DTSTAMP:20260422T105838
CREATED:20210204T202518Z
LAST-MODIFIED:20210204T202652Z
UID:3218-1616608800-1616612400@poetry.princeton.edu
SUMMARY:C.K. Williams Reading by Nana Kwame Adjei-Brenyah
DESCRIPTION:C.K. Williams Reading by Nana Kwame Adjei-Brenyah\n\nEVENT OVERVIEW\nDATES: March 24\, 2021\nHOURS: 6-7 PM (EDT)\nLOCATION: Online\nADMISSION: FREE and open to public\n\n\n\nNana Kwame Adjei-Brenyah\, New York Times-bestselling author of Friday Black\, reads from his work along with senior students in the Program in Creative Writing. \nThe C.K. Williams Reading Series\, named in honor of the late Pulitzer Prize and National Book Award-winning poet C.K. Williams\, who served on Princeton’s Creative Writing faculty for 20 years\, showcases senior thesis students of the Program in Creative Writing with established writers as special guests. \nFeatured Student Readers:\n\nKatie DiFrancesco ’21\nAlex Kim ’21\nNancy Kim ’21\nLeah Linfield ’21\nJulia Walton ’21\n\n\nJOIN THE EVENT\nThe virtual reading is free and open to the public and will take place on Zoom; no registration required. \nJOIN THE READING ON ZOOM\nMeeting ID: 981 5617 9196 \nACCESSIBILITY\nIf you are in need of access accommodations in order to participate in this event\, please contact the Lewis Center at 609-258-5262 or email LewisCenter@princeton.edu at least 2 weeks in advance of the event date. \n\n\n\n\nABOUT\n\n\n\n \nPhoto courtesy Limitless Imprint Entertainment \n\nNANA KWAME ADJEI-BRENYAH is the New York Times-bestselling author of Friday Black. Originally from Spring Valley\, New York\, he graduated from SUNY Albany and went on to receive his MFA from Syracuse University. His work has appeared or is forthcoming from numerous publications\, including the New York Times Book Review\, Esquire\, Literary Hub\, The Paris Review\, Guernica\, The Chronicles of Now\, and Longreads. He was selected by Colson Whitehead as one of the National Book Foundation’s “5 Under 35” honorees\, is the winner of the PEN/Jean Stein Book Award\, and a finalist for the National Book Critics Circle’s John Leonard Award for Best First Book and the Aspen Words Literary Prize. Learn more on the author’s website
URL:https://poetry.princeton.edu/event/c-k-williams-reading-by-nana-kwame-adjei-brenyah/
LOCATION:Zoom
END:VEVENT
END:VCALENDAR